BEGIN:VCALENDAR
VERSION:2.0
PRODID:-//WAWT Tech - ECPv6.15.18//NONSGML v1.0//EN
CALSCALE:GREGORIAN
METHOD:PUBLISH
X-ORIGINAL-URL:https://wawt.tech
X-WR-CALDESC:Events for WAWT Tech
REFRESH-INTERVAL;VALUE=DURATION:PT1H
X-Robots-Tag:noindex
X-PUBLISHED-TTL:PT1H
BEGIN:VTIMEZONE
TZID:UTC
BEGIN:STANDARD
TZOFFSETFROM:+0000
TZOFFSETTO:+0000
TZNAME:UTC
DTSTART:20250101T000000
END:STANDARD
END:VTIMEZONE
BEGIN:VEVENT
DTSTART;VALUE=DATE:20260111
DTEND;VALUE=DATE:20260114
DTSTAMP:20260421T164629
CREATED:20260105T175431Z
LAST-MODIFIED:20260105T175431Z
UID:999575-1768089600-1768348799@wawt.tech
SUMMARY:NRF 2026
DESCRIPTION:Jacob K. Javits Convention Center\, NYC
URL:https://nrfbigshow.nrf.com/#new_tab
CATEGORIES:Events
ATTACH;FMTTYPE=image/jpeg:https://wawt.tech/wp-content/uploads/2026/01/Logo.jpg
END:VEVENT
END:VCALENDAR