BEGIN:VCALENDAR
VERSION:2.0
PRODID:-//WAWT Tech - ECPv6.15.18//NONSGML v1.0//EN
CALSCALE:GREGORIAN
METHOD:PUBLISH
X-WR-CALNAME:WAWT Tech
X-ORIGINAL-URL:https://wawt.tech
X-WR-CALDESC:Events for WAWT Tech
REFRESH-INTERVAL;VALUE=DURATION:PT1H
X-Robots-Tag:noindex
X-PUBLISHED-TTL:PT1H
BEGIN:VTIMEZONE
TZID:UTC
BEGIN:STANDARD
TZOFFSETFROM:+0000
TZOFFSETTO:+0000
TZNAME:UTC
DTSTART:20250101T000000
END:STANDARD
END:VTIMEZONE
BEGIN:VEVENT
DTSTART;VALUE=DATE:20260302
DTEND;VALUE=DATE:20260306
DTSTAMP:20260421T134823
CREATED:20250804T105622Z
LAST-MODIFIED:20250804T105622Z
UID:999102-1772409600-1772755199@wawt.tech
SUMMARY:MWC26
DESCRIPTION:Fira Gran Via\, Barcelona
URL:https://www.mwcbarcelona.com/#new_tab
CATEGORIES:Events
ATTACH;FMTTYPE=image/jpeg:https://wawt.tech/wp-content/uploads/2025/08/Logo-3.jpg
END:VEVENT
BEGIN:VEVENT
DTSTART;VALUE=DATE:20260304
DTEND;VALUE=DATE:20260306
DTSTAMP:20260421T134823
CREATED:20250804T110351Z
LAST-MODIFIED:20250804T110351Z
UID:999111-1772582400-1772755199@wawt.tech
SUMMARY:Data Centre World 2026
DESCRIPTION:Excel London
URL:https://www.datacentreworld.com/#new_tab
CATEGORIES:Events
ATTACH;FMTTYPE=image/jpeg:https://wawt.tech/wp-content/uploads/2025/08/Logo-6.jpg
END:VEVENT
END:VCALENDAR