BEGIN:VCALENDAR
VERSION:2.0
PRODID:-//WAWT Tech - ECPv6.15.18//NONSGML v1.0//EN
CALSCALE:GREGORIAN
METHOD:PUBLISH
X-ORIGINAL-URL:https://wawt.tech
X-WR-CALDESC:Events for WAWT Tech
REFRESH-INTERVAL;VALUE=DURATION:PT1H
X-Robots-Tag:noindex
X-PUBLISHED-TTL:PT1H
BEGIN:VTIMEZONE
TZID:UTC
BEGIN:STANDARD
TZOFFSETFROM:+0000
TZOFFSETTO:+0000
TZNAME:UTC
DTSTART:20250101T000000
END:STANDARD
END:VTIMEZONE
BEGIN:VEVENT
DTSTART;VALUE=DATE:20260527
DTEND;VALUE=DATE:20260530
DTSTAMP:20260421T203344
CREATED:20260329T185453Z
LAST-MODIFIED:20260329T185453Z
UID:999835-1779840000-1780099199@wawt.tech
SUMMARY:EnerHarv 2026
DESCRIPTION:Madrid\, Spain
URL:https://www.enerharv.com/#new_tab
CATEGORIES:Events
ATTACH;FMTTYPE=image/jpeg:https://wawt.tech/wp-content/uploads/2026/03/Logo-8.jpg
END:VEVENT
BEGIN:VEVENT
DTSTART;VALUE=DATE:20260609
DTEND;VALUE=DATE:20260612
DTSTAMP:20260421T203344
CREATED:20250804T114539Z
LAST-MODIFIED:20250804T114539Z
UID:999126-1780963200-1781222399@wawt.tech
SUMMARY:PCIM 2026
DESCRIPTION:Nuremberg\, Germany
URL:https://pcim.mesago.com/nuernberg/en/expo/visitors.html#:~:text=Search,equip%20you%20for%20the%20future#new_tab
CATEGORIES:Events
ATTACH;FMTTYPE=image/jpeg:https://wawt.tech/wp-content/uploads/2025/08/Logo-12.jpg
END:VEVENT
BEGIN:VEVENT
DTSTART;VALUE=DATE:20260609
DTEND;VALUE=DATE:20260612
DTSTAMP:20260421T203344
CREATED:20260419T100733Z
LAST-MODIFIED:20260419T100733Z
UID:999859-1780963200-1781222399@wawt.tech
SUMMARY:The Battery Show 2026
DESCRIPTION:Stuttgart\, Germany
URL:https://www.thebatteryshow.eu/digital-lp-tbs-expo/#new_tab
CATEGORIES:Events
ATTACH;FMTTYPE=image/jpeg:https://wawt.tech/wp-content/uploads/2026/04/Logo-10.jpg
END:VEVENT
BEGIN:VEVENT
DTSTART;VALUE=DATE:20260622
DTEND;VALUE=DATE:20260626
DTSTAMP:20260421T203344
CREATED:20250804T114756Z
LAST-MODIFIED:20250804T114756Z
UID:999129-1782086400-1782431999@wawt.tech
SUMMARY:Automate 2026
DESCRIPTION:Chicago USA
URL:https://www.automateshow.com/#new_tab
CATEGORIES:Events
ATTACH;FMTTYPE=image/jpeg:https://wawt.tech/wp-content/uploads/2025/08/Logo-13.jpg
END:VEVENT
BEGIN:VEVENT
DTSTART;VALUE=DATE:20260624
DTEND;VALUE=DATE:20260628
DTSTAMP:20260421T203344
CREATED:20250804T115958Z
LAST-MODIFIED:20250804T115958Z
UID:999140-1782259200-1782604799@wawt.tech
SUMMARY:EUROBIKE 2026
DESCRIPTION:Frankfurt\, Germany
URL:https://eurobike.com/frankfurt/en.html#new_tab
CATEGORIES:Events
ATTACH;FMTTYPE=image/jpeg:https://wawt.tech/wp-content/uploads/2025/08/Logo-16.jpg
END:VEVENT
BEGIN:VEVENT
DTSTART;VALUE=DATE:20260706
DTEND;VALUE=DATE:20260710
DTSTAMP:20260421T203344
CREATED:20250804T115601Z
LAST-MODIFIED:20250804T115601Z
UID:999135-1783296000-1783641599@wawt.tech
SUMMARY:WPTCE 2026
DESCRIPTION:Halifax\, Nova Scotia\, Canada
URL:https://ieee-wptce.org/wptce2026/#new_tab
CATEGORIES:Events
ATTACH;FMTTYPE=image/jpeg:https://wawt.tech/wp-content/uploads/2025/08/Logo-15.jpg
END:VEVENT
BEGIN:VEVENT
DTSTART;VALUE=DATE:20260708
DTEND;VALUE=DATE:20260710
DTSTAMP:20260421T203344
CREATED:20250804T120225Z
LAST-MODIFIED:20250804T120225Z
UID:999143-1783468800-1783641599@wawt.tech
SUMMARY:Battery Cells & Systems Expo 2026
DESCRIPTION:NEC\, Birmingham\, UK
URL:https://batterysystemsexpo.com/#new_tab
CATEGORIES:Events
ATTACH;FMTTYPE=image/jpeg:https://wawt.tech/wp-content/uploads/2025/08/Logo-17.jpg
END:VEVENT
END:VCALENDAR