BEGIN:VCALENDAR
VERSION:2.0
PRODID:-//WAWT Tech - ECPv6.15.18//NONSGML v1.0//EN
CALSCALE:GREGORIAN
METHOD:PUBLISH
X-WR-CALNAME:WAWT Tech
X-ORIGINAL-URL:https://wawt.tech
X-WR-CALDESC:Events for WAWT Tech
REFRESH-INTERVAL;VALUE=DURATION:PT1H
X-Robots-Tag:noindex
X-PUBLISHED-TTL:PT1H
BEGIN:VTIMEZONE
TZID:UTC
BEGIN:STANDARD
TZOFFSETFROM:+0000
TZOFFSETTO:+0000
TZNAME:UTC
DTSTART:20230101T000000
END:STANDARD
END:VTIMEZONE
BEGIN:VEVENT
DTSTART;VALUE=DATE:20250317
DTEND;VALUE=DATE:20250321
DTSTAMP:20260421T203535
CREATED:20241212T180248Z
LAST-MODIFIED:20250503T180420Z
UID:997396-1742169600-1742515199@wawt.tech
SUMMARY:ProMat 2025
DESCRIPTION:McCormick Place 2301 S. Lake Shore Drive Chicago\, Illinois 60616
URL:https://www.promatshow.com/#new_tab
CATEGORIES:Events
ATTACH;FMTTYPE=image/jpeg:https://wawt.tech/wp-content/uploads/2024/12/Untitled-design-24.jpg
END:VEVENT
BEGIN:VEVENT
DTSTART;VALUE=DATE:20250316
DTEND;VALUE=DATE:20250321
DTSTAMP:20260421T203535
CREATED:20241212T164311Z
LAST-MODIFIED:20250503T180451Z
UID:997344-1742083200-1742515199@wawt.tech
SUMMARY:APEC 2025
DESCRIPTION:San Antonio\, Texas
URL:https://apec-conf.org/
CATEGORIES:Events
ATTACH;FMTTYPE=image/png:https://wawt.tech/wp-content/uploads/2024/12/Untitled-design-7.png
END:VEVENT
BEGIN:VEVENT
DTSTART;VALUE=DATE:20250312
DTEND;VALUE=DATE:20250314
DTSTAMP:20260421T203535
CREATED:20250228T021336Z
LAST-MODIFIED:20250503T180515Z
UID:997870-1741737600-1741910399@wawt.tech
SUMMARY:Date Centre World
DESCRIPTION:London
URL:https://www.datacentreworld.com/
CATEGORIES:Events
ATTACH;FMTTYPE=image/jpeg:https://wawt.tech/wp-content/uploads/2025/02/Untitled-design-51.jpg
END:VEVENT
BEGIN:VEVENT
DTSTART;VALUE=DATE:20250311
DTEND;VALUE=DATE:20250314
DTSTAMP:20260421T203535
CREATED:20241212T165515Z
LAST-MODIFIED:20250503T180627Z
UID:997353-1741651200-1741910399@wawt.tech
SUMMARY:Embedded world 2025
DESCRIPTION:Nuremberg
URL:https://www.embedded-world.de/en#new_tab
CATEGORIES:Events
ATTACH;FMTTYPE=image/jpeg:https://wawt.tech/wp-content/uploads/2024/12/Untitled-design-11.jpg
END:VEVENT
BEGIN:VEVENT
DTSTART;VALUE=DATE:20250311
DTEND;VALUE=DATE:20250314
DTSTAMP:20260421T203535
CREATED:20241212T165108Z
LAST-MODIFIED:20250503T180653Z
UID:997350-1741651200-1741910399@wawt.tech
SUMMARY:LogiMAT 2025
DESCRIPTION:Stuttgart Trade Fair Centre
URL:https://www.logimat-messe.de/en#new_tab
CATEGORIES:Events
ATTACH;FMTTYPE=image/jpeg:https://wawt.tech/wp-content/uploads/2024/12/Untitled-design-10.jpg
END:VEVENT
BEGIN:VEVENT
DTSTART;VALUE=DATE:20250303
DTEND;VALUE=DATE:20250307
DTSTAMP:20260421T203535
CREATED:20241212T163559Z
LAST-MODIFIED:20250503T180718Z
UID:997340-1740960000-1741305599@wawt.tech
SUMMARY:MWC25
DESCRIPTION:Fira Gran Via\, Barcelona
URL:https://www.mwcbarcelona.com/#new_tab
CATEGORIES:Events
ATTACH;FMTTYPE=image/png:https://wawt.tech/wp-content/uploads/2024/12/Untitled-design-8.png
END:VEVENT
BEGIN:VEVENT
DTSTART;VALUE=DATE:20250225
DTEND;VALUE=DATE:20250228
DTSTAMP:20260421T203535
CREATED:20241212T163202Z
LAST-MODIFIED:20250503T180743Z
UID:997337-1740441600-1740700799@wawt.tech
SUMMARY:KBIS 2025
DESCRIPTION:ORLANDO
URL:https://kbis.com/#new_tab
CATEGORIES:Events
ATTACH;FMTTYPE=image/jpeg:https://wawt.tech/wp-content/uploads/2024/12/Untitled-design-29.jpg
END:VEVENT
BEGIN:VEVENT
DTSTART;VALUE=DATE:20250130
DTEND;VALUE=DATE:20250202
DTSTAMP:20260421T203535
CREATED:20250130T180906Z
LAST-MODIFIED:20250130T180906Z
UID:997736-1738195200-1738454399@wawt.tech
SUMMARY:NANS25
DESCRIPTION:
URL:https://www.neuromodulation.org/#new_tab
CATEGORIES:Events
ATTACH;FMTTYPE=image/jpeg:https://wawt.tech/wp-content/uploads/2025/01/Untitled-design-49.jpg
END:VEVENT
BEGIN:VEVENT
DTSTART;VALUE=DATE:20250107
DTEND;VALUE=DATE:20250111
DTSTAMP:20260421T203535
CREATED:20241117T112005Z
LAST-MODIFIED:20250503T180803Z
UID:997021-1736208000-1736553599@wawt.tech
SUMMARY:CES 2025
DESCRIPTION:Las Vegas
URL:https://www.ces.tech/#new_tab
CATEGORIES:Events
ATTACH;FMTTYPE=image/jpeg:https://wawt.tech/wp-content/uploads/2024/11/Untitled-design-26.jpg
END:VEVENT
BEGIN:VEVENT
DTSTART;TZID=UTC:20241212T080000
DTEND;TZID=UTC:20241212T170000
DTSTAMP:20260421T203535
CREATED:20241212T171630Z
LAST-MODIFIED:20241212T171630Z
UID:997371-1733990400-1734022800@wawt.tech
SUMMARY:IMS 2025
DESCRIPTION:IEEE MTT-S International Microwave Symposium (IMS)
URL:https://ims-ieee.org/#new_tab
CATEGORIES:Events
ATTACH;FMTTYPE=image/jpeg:https://wawt.tech/wp-content/uploads/2024/12/Untitled-design-16.jpg
END:VEVENT
BEGIN:VEVENT
DTSTART;VALUE=DATE:20241212
DTEND;VALUE=DATE:20241213
DTSTAMP:20260421T203535
CREATED:20241212T171859Z
LAST-MODIFIED:20241213T081304Z
UID:997375-1733961600-1734047999@wawt.tech
SUMMARY:Sensors Converge
DESCRIPTION:Be at the forefront of innovation where sensing\, processing\, and connectivity unite! Join the sensors and electronics community from June 24-26 at Sensors Converge\, the ONLY event that dives deep into the most impactful design engineering trends.
URL:https://www.sensorsconverge.com/#new_tab
CATEGORIES:Events
ATTACH;FMTTYPE=image/jpeg:https://wawt.tech/wp-content/uploads/2024/12/Untitled-design-17.jpg
END:VEVENT
BEGIN:VEVENT
DTSTART;VALUE=DATE:20241112
DTEND;VALUE=DATE:20241116
DTSTAMP:20260421T203535
CREATED:20231027T005511Z
LAST-MODIFIED:20240330T120254Z
UID:994319-1731369600-1731715199@wawt.tech
SUMMARY:Electronica 2024
DESCRIPTION:
URL:https://electronica.de/en/trade-fair/#new_tab
CATEGORIES:Events
ATTACH;FMTTYPE=image/jpeg:https://wawt.tech/wp-content/uploads/2024/03/Electronica-2024.jpeg
END:VEVENT
BEGIN:VEVENT
DTSTART;VALUE=DATE:20241023
DTEND;VALUE=DATE:20241025
DTSTAMP:20260421T203535
CREATED:20241008T035348Z
LAST-MODIFIED:20241008T035348Z
UID:996934-1729641600-1729814399@wawt.tech
SUMMARY:Think WIoT Summit
DESCRIPTION:
URL:https://wawt.tech/event/think-wiot-summit/
CATEGORIES:Events
ATTACH;FMTTYPE=image/jpeg:https://wawt.tech/wp-content/uploads/2024/10/Untitled-design-2.jpg
END:VEVENT
BEGIN:VEVENT
DTSTART;VALUE=DATE:20241014
DTEND;VALUE=DATE:20241019
DTSTAMP:20260421T203535
CREATED:20231027T011251Z
LAST-MODIFIED:20240330T120356Z
UID:994326-1728864000-1729295999@wawt.tech
SUMMARY:GITEX Global 2024
DESCRIPTION:
URL:https://www.gitex.com/home#new_tab
CATEGORIES:Events
ATTACH;FMTTYPE=image/png:https://wawt.tech/wp-content/uploads/2024/03/GiTex-Global-2024.png
END:VEVENT
BEGIN:VEVENT
DTSTART;VALUE=DATE:20241008
DTEND;VALUE=DATE:20241011
DTSTAMP:20260421T203535
CREATED:20241008T034929Z
LAST-MODIFIED:20241008T035101Z
UID:996930-1728345600-1728604799@wawt.tech
SUMMARY:2024 Europe Member Meeting
DESCRIPTION:
URL:https://wawt.tech/event/2024-europe-member-meeting/
CATEGORIES:Events
ATTACH;FMTTYPE=image/jpeg:https://wawt.tech/wp-content/uploads/2024/10/Untitled-design-1.jpg
END:VEVENT
BEGIN:VEVENT
DTSTART;VALUE=DATE:20241008
DTEND;VALUE=DATE:20241011
DTSTAMP:20260421T203535
CREATED:20231027T010506Z
LAST-MODIFIED:20240330T120408Z
UID:994323-1728345600-1728604799@wawt.tech
SUMMARY:MWC Las Vegas 2024
DESCRIPTION:
URL:https://www.mwclasvegas.com/#new_tab
CATEGORIES:Events
ATTACH;FMTTYPE=image/jpeg:https://wawt.tech/wp-content/uploads/2024/03/MWC-Las-Vegas-2024.jpeg
END:VEVENT
BEGIN:VEVENT
DTSTART;VALUE=DATE:20240922
DTEND;VALUE=DATE:20240928
DTSTAMP:20260421T203535
CREATED:20231027T021407Z
LAST-MODIFIED:20240330T120420Z
UID:994351-1726963200-1727481599@wawt.tech
SUMMARY:European Microwave Week 2024 (EuMW 2024)
DESCRIPTION:
URL:https://www.eumweek.com/#new_tab
CATEGORIES:Events
ATTACH;FMTTYPE=image/jpeg:https://wawt.tech/wp-content/uploads/2024/03/EuMW-2024.jpeg
END:VEVENT
BEGIN:VEVENT
DTSTART;VALUE=DATE:20240906
DTEND;VALUE=DATE:20240911
DTSTAMP:20260421T203535
CREATED:20231026T233349Z
LAST-MODIFIED:20240330T120435Z
UID:994293-1725580800-1726012799@wawt.tech
SUMMARY:IFA Berlin 2024
DESCRIPTION:
URL:https://www.ifa-berlin.com/#new_tab
CATEGORIES:Events
ATTACH;FMTTYPE=image/png:https://wawt.tech/wp-content/uploads/2024/03/IFA-Berlin-2024.png
END:VEVENT
BEGIN:VEVENT
DTSTART;VALUE=DATE:20240828
DTEND;VALUE=DATE:20240831
DTSTAMP:20260421T203535
CREATED:20231027T014208Z
LAST-MODIFIED:20240330T120454Z
UID:994338-1724803200-1725062399@wawt.tech
SUMMARY:PCIM Asia 2024
DESCRIPTION:
URL:https://pcimasia-expo.cn.messefrankfurt.com/shenzhen/en/facts-figures.html#new_tab
CATEGORIES:Events
ATTACH;FMTTYPE=image/png:https://wawt.tech/wp-content/uploads/2024/03/PCIM-Asia-2024.png
END:VEVENT
BEGIN:VEVENT
DTSTART;VALUE=DATE:20240624
DTEND;VALUE=DATE:20240627
DTSTAMP:20260421T203535
CREATED:20231027T022643Z
LAST-MODIFIED:20240330T120523Z
UID:994355-1719187200-1719446399@wawt.tech
SUMMARY:Sensors Converge
DESCRIPTION:
URL:https://www.sensorsconverge.com/#new_tab
CATEGORIES:Events
ATTACH;FMTTYPE=image/jpeg:https://wawt.tech/wp-content/uploads/2024/03/Sensors-Converge.jpeg
END:VEVENT
BEGIN:VEVENT
DTSTART;VALUE=DATE:20240616
DTEND;VALUE=DATE:20240622
DTSTAMP:20260421T203535
CREATED:20240129T083330Z
LAST-MODIFIED:20240330T120910Z
UID:994594-1718496000-1719014399@wawt.tech
SUMMARY:IMS 2024 (International Microwave Symposium)
DESCRIPTION:
URL:https://wawt.tech/event/ims-2024-international-microwave-symposium/
CATEGORIES:Events
ATTACH;FMTTYPE=image/jpeg:https://wawt.tech/wp-content/uploads/2024/01/IMS-2024-1.jpg
END:VEVENT
BEGIN:VEVENT
DTSTART;VALUE=DATE:20240611
DTEND;VALUE=DATE:20240614
DTSTAMP:20260421T203535
CREATED:20231027T004028Z
LAST-MODIFIED:20240330T120645Z
UID:994315-1718064000-1718323199@wawt.tech
SUMMARY:PCIM Europe 2024
DESCRIPTION:
URL:https://pcim.mesago.com/nuernberg/en.html#new_tab
CATEGORIES:Events
ATTACH;FMTTYPE=image/png:https://wawt.tech/wp-content/uploads/2024/03/PCIM-2024.png
END:VEVENT
BEGIN:VEVENT
DTSTART;VALUE=DATE:20240508
DTEND;VALUE=DATE:20240512
DTSTAMP:20260421T203535
CREATED:20231027T020209Z
LAST-MODIFIED:20240330T120817Z
UID:994346-1715126400-1715471999@wawt.tech
SUMMARY:WPTCE 2024 (Wireless Power Technology Conference & Expo)
DESCRIPTION:
URL:https://ieee-wptce2024.org/#new_tab
CATEGORIES:Events
ATTACH;FMTTYPE=image/jpeg:https://wawt.tech/wp-content/uploads/2024/03/WPTCE-2024.jpeg
END:VEVENT
BEGIN:VEVENT
DTSTART;VALUE=DATE:20240416
DTEND;VALUE=DATE:20240419
DTSTAMP:20260421T203535
CREATED:20240128T095737Z
LAST-MODIFIED:20240330T121109Z
UID:994587-1713225600-1713484799@wawt.tech
SUMMARY:WCX 2024 (World Congress Experience) by SAE International
DESCRIPTION:
URL:https://wawt.tech/event/wcx-2024/
CATEGORIES:Events
ATTACH;FMTTYPE=image/png:https://wawt.tech/wp-content/uploads/2024/03/WCX-Event-2024-April-16-18-2024-in-Detriot.png
END:VEVENT
BEGIN:VEVENT
DTSTART;VALUE=DATE:20240416
DTEND;VALUE=DATE:20240418
DTSTAMP:20260421T203535
CREATED:20240322T225130Z
LAST-MODIFIED:20240330T120947Z
UID:994973-1713225600-1713398399@wawt.tech
SUMMARY:CS International
DESCRIPTION:
URL:https://wawt.tech/event/cs-international/
LOCATION:Our Solutions
CATEGORIES:Events
ATTACH;FMTTYPE=image/png:https://wawt.tech/wp-content/uploads/2024/03/CS-International-April-2024_2.png
END:VEVENT
BEGIN:VEVENT
DTSTART;VALUE=DATE:20240409
DTEND;VALUE=DATE:20240412
DTSTAMP:20260421T203535
CREATED:20231027T013330Z
LAST-MODIFIED:20240330T121004Z
UID:994334-1712620800-1712879999@wawt.tech
SUMMARY:Embedded World Europe
DESCRIPTION:
URL:https://www.embedded-world.de/en#new_tab
CATEGORIES:Events
ATTACH;FMTTYPE=image/png:https://wawt.tech/wp-content/uploads/2024/03/Embedded-World-2024-1536x281-1.png
END:VEVENT
BEGIN:VEVENT
DTSTART;VALUE=DATE:20240319
DTEND;VALUE=DATE:20240322
DTSTAMP:20260421T203535
CREATED:20231027T002450Z
LAST-MODIFIED:20231027T002450Z
UID:994310-1710806400-1711065599@wawt.tech
SUMMARY:LogiMAT 2024
DESCRIPTION:
URL:https://www.logimat-messe.de/en#new_tab
CATEGORIES:Events
ATTACH;FMTTYPE=:
END:VEVENT
BEGIN:VEVENT
DTSTART;VALUE=DATE:20240314
DTEND;VALUE=DATE:20240318
DTSTAMP:20260421T203535
CREATED:20231027T024451Z
LAST-MODIFIED:20231027T024451Z
UID:994363-1710374400-1710719999@wawt.tech
SUMMARY:AWE - Appliance & Electronics World Expo 2024
DESCRIPTION:
URL:https://en.awe.com.cn/#new_tab
CATEGORIES:Events
ATTACH;FMTTYPE=:
END:VEVENT
BEGIN:VEVENT
DTSTART;VALUE=DATE:20240311
DTEND;VALUE=DATE:20240315
DTSTAMP:20260421T203535
CREATED:20231027T001847Z
LAST-MODIFIED:20231027T001847Z
UID:994306-1710115200-1710460799@wawt.tech
SUMMARY:MODEX 2024
DESCRIPTION:
URL:https://www.modexshow.com/#new_tab
CATEGORIES:Events
ATTACH;FMTTYPE=:
END:VEVENT
BEGIN:VEVENT
DTSTART;VALUE=DATE:20240227
DTEND;VALUE=DATE:20240301
DTSTAMP:20260421T203535
CREATED:20231027T011909Z
LAST-MODIFIED:20231027T011909Z
UID:994330-1708992000-1709251199@wawt.tech
SUMMARY:KBIS 2024
DESCRIPTION:
URL:https://kbis.com/#new_tab
CATEGORIES:Events
ATTACH;FMTTYPE=:
END:VEVENT
END:VCALENDAR