BEGIN:VCALENDAR
VERSION:2.0
PRODID:-//WAWT Tech - ECPv6.15.18//NONSGML v1.0//EN
CALSCALE:GREGORIAN
METHOD:PUBLISH
X-WR-CALNAME:WAWT Tech
X-ORIGINAL-URL:https://wawt.tech
X-WR-CALDESC:Events for WAWT Tech
REFRESH-INTERVAL;VALUE=DURATION:PT1H
X-Robots-Tag:noindex
X-PUBLISHED-TTL:PT1H
BEGIN:VTIMEZONE
TZID:UTC
BEGIN:STANDARD
TZOFFSETFROM:+0000
TZOFFSETTO:+0000
TZNAME:UTC
DTSTART:20210101T000000
END:STANDARD
END:VTIMEZONE
BEGIN:VTIMEZONE
TZID:Europe/Paris
BEGIN:DAYLIGHT
TZOFFSETFROM:+0100
TZOFFSETTO:+0200
TZNAME:CEST
DTSTART:20210328T010000
END:DAYLIGHT
BEGIN:STANDARD
TZOFFSETFROM:+0200
TZOFFSETTO:+0100
TZNAME:CET
DTSTART:20211031T010000
END:STANDARD
BEGIN:DAYLIGHT
TZOFFSETFROM:+0100
TZOFFSETTO:+0200
TZNAME:CEST
DTSTART:20220327T010000
END:DAYLIGHT
BEGIN:STANDARD
TZOFFSETFROM:+0200
TZOFFSETTO:+0100
TZNAME:CET
DTSTART:20221030T010000
END:STANDARD
BEGIN:DAYLIGHT
TZOFFSETFROM:+0100
TZOFFSETTO:+0200
TZNAME:CEST
DTSTART:20230326T010000
END:DAYLIGHT
BEGIN:STANDARD
TZOFFSETFROM:+0200
TZOFFSETTO:+0100
TZNAME:CET
DTSTART:20231029T010000
END:STANDARD
BEGIN:DAYLIGHT
TZOFFSETFROM:+0100
TZOFFSETTO:+0200
TZNAME:CEST
DTSTART:20240331T010000
END:DAYLIGHT
BEGIN:STANDARD
TZOFFSETFROM:+0200
TZOFFSETTO:+0100
TZNAME:CET
DTSTART:20241027T010000
END:STANDARD
END:VTIMEZONE
BEGIN:VTIMEZONE
TZID:America/Los_Angeles
BEGIN:DAYLIGHT
TZOFFSETFROM:-0800
TZOFFSETTO:-0700
TZNAME:PDT
DTSTART:20220313T100000
END:DAYLIGHT
BEGIN:STANDARD
TZOFFSETFROM:-0700
TZOFFSETTO:-0800
TZNAME:PST
DTSTART:20221106T090000
END:STANDARD
BEGIN:DAYLIGHT
TZOFFSETFROM:-0800
TZOFFSETTO:-0700
TZNAME:PDT
DTSTART:20230312T100000
END:DAYLIGHT
BEGIN:STANDARD
TZOFFSETFROM:-0700
TZOFFSETTO:-0800
TZNAME:PST
DTSTART:20231105T090000
END:STANDARD
BEGIN:DAYLIGHT
TZOFFSETFROM:-0800
TZOFFSETTO:-0700
TZNAME:PDT
DTSTART:20240310T100000
END:DAYLIGHT
BEGIN:STANDARD
TZOFFSETFROM:-0700
TZOFFSETTO:-0800
TZNAME:PST
DTSTART:20241103T090000
END:STANDARD
END:VTIMEZONE
BEGIN:VEVENT
DTSTART;VALUE=DATE:20240416
DTEND;VALUE=DATE:20240418
DTSTAMP:20260422T012419
CREATED:20240322T225130Z
LAST-MODIFIED:20240330T120947Z
UID:994973-1713225600-1713398399@wawt.tech
SUMMARY:CS International
DESCRIPTION:
URL:https://wawt.tech/event/cs-international/
LOCATION:Our Solutions
CATEGORIES:Events
ATTACH;FMTTYPE=image/png:https://wawt.tech/wp-content/uploads/2024/03/CS-International-April-2024_2.png
END:VEVENT
BEGIN:VEVENT
DTSTART;VALUE=DATE:20240409
DTEND;VALUE=DATE:20240412
DTSTAMP:20260422T012419
CREATED:20231027T013330Z
LAST-MODIFIED:20240330T121004Z
UID:994334-1712620800-1712879999@wawt.tech
SUMMARY:Embedded World Europe
DESCRIPTION:
URL:https://www.embedded-world.de/en#new_tab
CATEGORIES:Events
ATTACH;FMTTYPE=image/png:https://wawt.tech/wp-content/uploads/2024/03/Embedded-World-2024-1536x281-1.png
END:VEVENT
BEGIN:VEVENT
DTSTART;VALUE=DATE:20240319
DTEND;VALUE=DATE:20240322
DTSTAMP:20260422T012419
CREATED:20231027T002450Z
LAST-MODIFIED:20231027T002450Z
UID:994310-1710806400-1711065599@wawt.tech
SUMMARY:LogiMAT 2024
DESCRIPTION:
URL:https://www.logimat-messe.de/en#new_tab
CATEGORIES:Events
ATTACH;FMTTYPE=:
END:VEVENT
BEGIN:VEVENT
DTSTART;VALUE=DATE:20240314
DTEND;VALUE=DATE:20240318
DTSTAMP:20260422T012419
CREATED:20231027T024451Z
LAST-MODIFIED:20231027T024451Z
UID:994363-1710374400-1710719999@wawt.tech
SUMMARY:AWE - Appliance & Electronics World Expo 2024
DESCRIPTION:
URL:https://en.awe.com.cn/#new_tab
CATEGORIES:Events
ATTACH;FMTTYPE=:
END:VEVENT
BEGIN:VEVENT
DTSTART;VALUE=DATE:20240311
DTEND;VALUE=DATE:20240315
DTSTAMP:20260422T012419
CREATED:20231027T001847Z
LAST-MODIFIED:20231027T001847Z
UID:994306-1710115200-1710460799@wawt.tech
SUMMARY:MODEX 2024
DESCRIPTION:
URL:https://www.modexshow.com/#new_tab
CATEGORIES:Events
ATTACH;FMTTYPE=:
END:VEVENT
BEGIN:VEVENT
DTSTART;VALUE=DATE:20240227
DTEND;VALUE=DATE:20240301
DTSTAMP:20260422T012419
CREATED:20231027T011909Z
LAST-MODIFIED:20231027T011909Z
UID:994330-1708992000-1709251199@wawt.tech
SUMMARY:KBIS 2024
DESCRIPTION:
URL:https://kbis.com/#new_tab
CATEGORIES:Events
ATTACH;FMTTYPE=:
END:VEVENT
BEGIN:VEVENT
DTSTART;VALUE=DATE:20240226
DTEND;VALUE=DATE:20240301
DTSTAMP:20260422T012419
CREATED:20231026T235019Z
LAST-MODIFIED:20231026T235019Z
UID:994297-1708905600-1709251199@wawt.tech
SUMMARY:MWC Barcelona 2024
DESCRIPTION:
URL:https://www.mwcbarcelona.com/#new_tab
CATEGORIES:Events
ATTACH;FMTTYPE=:
END:VEVENT
BEGIN:VEVENT
DTSTART;VALUE=DATE:20240225
DTEND;VALUE=DATE:20240301
DTSTAMP:20260422T012419
CREATED:20231026T235538Z
LAST-MODIFIED:20231026T235538Z
UID:994301-1708819200-1709251199@wawt.tech
SUMMARY:APEC 2024
DESCRIPTION:
URL:https://apec-conf.org/#new_tab
CATEGORIES:Events
ATTACH;FMTTYPE=:
END:VEVENT
BEGIN:VEVENT
DTSTART;VALUE=DATE:20240109
DTEND;VALUE=DATE:20240113
DTSTAMP:20260422T012419
CREATED:20231026T232214Z
LAST-MODIFIED:20231026T232214Z
UID:994289-1704758400-1705103999@wawt.tech
SUMMARY:CES 2024
DESCRIPTION:
URL:https://www.ces.tech/#new_tab
CATEGORIES:Events
ATTACH;FMTTYPE=:
END:VEVENT
BEGIN:VEVENT
DTSTART;TZID=Europe/Paris:20231212T080000
DTEND;TZID=Europe/Paris:20231213T170000
DTSTAMP:20260422T012419
CREATED:20231128T025957Z
LAST-MODIFIED:20231128T025957Z
UID:994458-1702368000-1702486800@wawt.tech
SUMMARY:PowerUp Virtual Expo 2023
DESCRIPTION:
URL:https://wawt.tech/event/powerup-virtual-expo-2023/
CATEGORIES:Webinar
ATTACH;FMTTYPE=:
END:VEVENT
BEGIN:VEVENT
DTSTART;VALUE=DATE:20230901
DTEND;VALUE=DATE:20230906
DTSTAMP:20260422T012419
CREATED:20221103T025633Z
LAST-MODIFIED:20221103T025633Z
UID:992894-1693526400-1693958399@wawt.tech
SUMMARY:IFA Berlin 2023 (Trade Show)
DESCRIPTION:IFA is the world’s largest consumer electronics and home appliances trade show. As we are celebrating 99 years\, IFA has been at the centre of technology and innovation. \nSince 1924\, IFA has been the platform for tech launches\, showcasing detector devices\, tube radio receivers\, the first European car radio and colour TV. From Albert Einstein opening the show in 1930 to the launch of the first video recorder in 1971\, IFA Berlin has been integral to the transformation in technology\, bringing together industry pioneers and innovative products all under one roof.
URL:https://b2b.ifa-berlin.com/en/#new_tab
CATEGORIES:Events
ATTACH;FMTTYPE=:
END:VEVENT
BEGIN:VEVENT
DTSTART;VALUE=DATE:20230829
DTEND;VALUE=DATE:20230901
DTSTAMP:20260422T012419
CREATED:20221103T030318Z
LAST-MODIFIED:20221103T030318Z
UID:992896-1693267200-1693526399@wawt.tech
SUMMARY:PCIM Asia 2023
DESCRIPTION:The event offers a chance to see the latest developments in power electronics components and systems. The strong link between conference and exhibition guarantees the high quality of the show. This unique combination fosters the fast and easy exchange between industry and science\, for which PCIM Asia is famous.
URL:https://pcimasia-expo.cn.messefrankfurt.com/shanghai/en.html#new_tab
CATEGORIES:Events
ATTACH;FMTTYPE=:
END:VEVENT
BEGIN:VEVENT
DTSTART;VALUE=DATE:20230425
DTEND;VALUE=DATE:20230428
DTSTAMP:20260422T012419
CREATED:20221103T024606Z
LAST-MODIFIED:20221103T024606Z
UID:992887-1682380800-1682639999@wawt.tech
SUMMARY:Logimat 2023
DESCRIPTION:
URL:https://www.logimat-messe.de/en
CATEGORIES:Events
END:VEVENT
BEGIN:VEVENT
DTSTART;VALUE=DATE:20230227
DTEND;VALUE=DATE:20230303
DTSTAMP:20260422T012419
CREATED:20221103T020353Z
LAST-MODIFIED:20221103T020353Z
UID:992866-1677456000-1677801599@wawt.tech
SUMMARY:MWC 2023 Barcelona
DESCRIPTION:
URL:https://www.mwcbarcelona.com/#new_tab
CATEGORIES:Events
END:VEVENT
BEGIN:VEVENT
DTSTART;VALUE=DATE:20230105
DTEND;VALUE=DATE:20230109
DTSTAMP:20260422T012419
CREATED:20221103T015526Z
LAST-MODIFIED:20221103T015526Z
UID:992864-1672876800-1673222399@wawt.tech
SUMMARY:CES 2023 (Consumer Electronics Show)
DESCRIPTION:
URL:https://www.ces.tech/
CATEGORIES:Events
END:VEVENT
BEGIN:VEVENT
DTSTART;VALUE=DATE:20221115
DTEND;VALUE=DATE:20221119
DTSTAMP:20260422T012419
CREATED:20221103T011743Z
LAST-MODIFIED:20221103T011743Z
UID:992857-1668470400-1668815999@wawt.tech
SUMMARY:Electronica Trade Show 2022
DESCRIPTION:
URL:https://electronica.de/en/#new_tab
CATEGORIES:Events
END:VEVENT
BEGIN:VEVENT
DTSTART;VALUE=DATE:20220902
DTEND;VALUE=DATE:20220907
DTSTAMP:20260422T012419
CREATED:20221103T013939Z
LAST-MODIFIED:20221103T013939Z
UID:992861-1662076800-1662508799@wawt.tech
SUMMARY:IFA Trade Show 2022
DESCRIPTION:
URL:https://b2b.ifa-berlin.com/en/#new_tab
CATEGORIES:Events
END:VEVENT
BEGIN:VEVENT
DTSTART;VALUE=DATE:20220705
DTEND;VALUE=DATE:20220709
DTSTAMP:20260422T012419
CREATED:20221103T021155Z
LAST-MODIFIED:20221103T021155Z
UID:992869-1656979200-1657324799@wawt.tech
SUMMARY:IEEE Wireless Power Week (WPW 2022)
DESCRIPTION:
URL:https://www.wpw2022.org/#new_tab
CATEGORIES:Events
END:VEVENT
BEGIN:VEVENT
DTSTART;VALUE=DATE:20220531
DTEND;VALUE=DATE:20220603
DTSTAMP:20260422T012419
CREATED:20221103T025124Z
LAST-MODIFIED:20221103T025124Z
UID:992892-1653955200-1654214399@wawt.tech
SUMMARY:LogiMAT 2022
DESCRIPTION:
URL:https://www.logimat-messe.de/en
CATEGORIES:Events
END:VEVENT
BEGIN:VEVENT
DTSTART;VALUE=DATE:20220510
DTEND;VALUE=DATE:20220513
DTSTAMP:20260422T012419
CREATED:20221103T021742Z
LAST-MODIFIED:20221103T021742Z
UID:992872-1652140800-1652399999@wawt.tech
SUMMARY:PCIM Europe 2022
DESCRIPTION:
URL:https://pcim.mesago.com/nuernberg/en.html#new_tab
CATEGORIES:Events
END:VEVENT
BEGIN:VEVENT
DTSTART;VALUE=DATE:20220328
DTEND;VALUE=DATE:20220401
DTSTAMP:20260422T012419
CREATED:20221103T024245Z
LAST-MODIFIED:20221103T024245Z
UID:992884-1648425600-1648771199@wawt.tech
SUMMARY:Modex 2022
DESCRIPTION:
URL:https://2022.modexshow.com/#new_tab
CATEGORIES:Events
END:VEVENT
BEGIN:VEVENT
DTSTART;VALUE=DATE:20220228
DTEND;VALUE=DATE:20220304
DTSTAMP:20260422T012419
CREATED:20221103T023754Z
LAST-MODIFIED:20221103T023754Z
UID:992882-1646006400-1646351999@wawt.tech
SUMMARY:MWC Barcelona 2022
DESCRIPTION:
URL:https://www.mwcbarcelona.com#new_tab
CATEGORIES:Events
END:VEVENT
BEGIN:VEVENT
DTSTART;VALUE=DATE:20220105
DTEND;VALUE=DATE:20220108
DTSTAMP:20260422T012419
CREATED:20221103T023210Z
LAST-MODIFIED:20221103T023210Z
UID:992880-1641340800-1641599999@wawt.tech
SUMMARY:CES 2022 (Consumer Electronics Show)
DESCRIPTION:
URL:https://www.ces.tech/
CATEGORIES:Events
END:VEVENT
END:VCALENDAR