BEGIN:VCALENDAR
VERSION:2.0
PRODID:-//WAWT Tech - ECPv6.15.18//NONSGML v1.0//EN
CALSCALE:GREGORIAN
METHOD:PUBLISH
X-ORIGINAL-URL:https://wawt.tech
X-WR-CALDESC:Events for WAWT Tech
REFRESH-INTERVAL;VALUE=DURATION:PT1H
X-Robots-Tag:noindex
X-PUBLISHED-TTL:PT1H
BEGIN:VTIMEZONE
TZID:UTC
BEGIN:STANDARD
TZOFFSETFROM:+0000
TZOFFSETTO:+0000
TZNAME:UTC
DTSTART:20230101T000000
END:STANDARD
END:VTIMEZONE
BEGIN:VEVENT
DTSTART;VALUE=DATE:20240906
DTEND;VALUE=DATE:20240911
DTSTAMP:20260423T064135
CREATED:20231026T233349Z
LAST-MODIFIED:20240330T120435Z
UID:994293-1725580800-1726012799@wawt.tech
SUMMARY:IFA Berlin 2024
DESCRIPTION:
URL:https://www.ifa-berlin.com/#new_tab
CATEGORIES:Events
ATTACH;FMTTYPE=image/png:https://wawt.tech/wp-content/uploads/2024/03/IFA-Berlin-2024.png
END:VEVENT
BEGIN:VEVENT
DTSTART;VALUE=DATE:20240922
DTEND;VALUE=DATE:20240928
DTSTAMP:20260423T064135
CREATED:20231027T021407Z
LAST-MODIFIED:20240330T120420Z
UID:994351-1726963200-1727481599@wawt.tech
SUMMARY:European Microwave Week 2024 (EuMW 2024)
DESCRIPTION:
URL:https://www.eumweek.com/#new_tab
CATEGORIES:Events
ATTACH;FMTTYPE=image/jpeg:https://wawt.tech/wp-content/uploads/2024/03/EuMW-2024.jpeg
END:VEVENT
END:VCALENDAR